BEGIN:VCALENDAR
VERSION:2.0
PRODID:-//San Francisco Bay Times - ECPv5.1.0//NONSGML v1.0//EN
CALSCALE:GREGORIAN
METHOD:PUBLISH
X-WR-CALNAME:San Francisco Bay Times
X-ORIGINAL-URL:https://sfbaytimes.com
X-WR-CALDESC:Events for San Francisco Bay Times
BEGIN:VTIMEZONE
TZID:America/Los_Angeles
BEGIN:DAYLIGHT
TZOFFSETFROM:-0800
TZOFFSETTO:-0700
TZNAME:PDT
DTSTART:20170312T100000
END:DAYLIGHT
BEGIN:STANDARD
TZOFFSETFROM:-0700
TZOFFSETTO:-0800
TZNAME:PST
DTSTART:20171105T090000
END:STANDARD
END:VTIMEZONE
BEGIN:VEVENT
DTSTART;TZID=America/Los_Angeles:20170928T190000
DTEND;TZID=America/Los_Angeles:20170928T190000
DTSTAMP:20260422T205729
CREATED:20170922T221633Z
LAST-MODIFIED:20170922T221633Z
UID:14323-1506625200-1506625200@sfbaytimes.com
SUMMARY:The Disappearing L: Erasure of Lesbian Spaces and Culture Book Event
DESCRIPTION:@ Laurel Bookstore\, 1423 Broadway\, Oakland. Author Bonnie J. Morris will discuss the disappearance of lesbian culture and spaces\, including concerts\, festivals\, cafes\, bookstores and support spaces. 7pm.\nlaurelbookstore.com \n
URL:https://sfbaytimes.com/event/disappearing-l-erasure-lesbian-spaces-culture-book-event/
END:VEVENT
END:VCALENDAR