BEGIN:VCALENDAR
VERSION:2.0
PRODID:-//San Francisco Bay Times - ECPv5.1.0//NONSGML v1.0//EN
CALSCALE:GREGORIAN
METHOD:PUBLISH
X-WR-CALNAME:San Francisco Bay Times
X-ORIGINAL-URL:https://sfbaytimes.com
X-WR-CALDESC:Events for San Francisco Bay Times
BEGIN:VTIMEZONE
TZID:America/Los_Angeles
BEGIN:DAYLIGHT
TZOFFSETFROM:-0800
TZOFFSETTO:-0700
TZNAME:PDT
DTSTART:20170312T100000
END:DAYLIGHT
BEGIN:STANDARD
TZOFFSETFROM:-0700
TZOFFSETTO:-0800
TZNAME:PST
DTSTART:20171105T090000
END:STANDARD
END:VTIMEZONE
BEGIN:VEVENT
DTSTART;TZID=America/Los_Angeles:20170901T200000
DTEND;TZID=America/Los_Angeles:20170901T200000
DTSTAMP:20260422T000250
CREATED:20170828T232654Z
LAST-MODIFIED:20170828T232654Z
UID:13958-1504296000-1504296000@sfbaytimes.com
SUMMARY:Disney’s Beauty & the Beast
DESCRIPTION:@ Woodminster Amphitheater\, Joaquin Miller Park\, Joaquin Miller Road at upper Sanborn Drive\, Oakland.  Woodminister’s Summer Music series concludes with their production of the stage adaptation of the beloved Disney movie. Also on selected dates through September 10. 8pm  woodminster.com \n
URL:https://sfbaytimes.com/event/disneys-beauty-beast/
END:VEVENT
END:VCALENDAR