BEGIN:VCALENDAR
VERSION:2.0
PRODID:-//San Francisco Bay Times - ECPv5.1.0//NONSGML v1.0//EN
CALSCALE:GREGORIAN
METHOD:PUBLISH
X-WR-CALNAME:San Francisco Bay Times
X-ORIGINAL-URL:https://sfbaytimes.com
X-WR-CALDESC:Events for San Francisco Bay Times
BEGIN:VTIMEZONE
TZID:America/Los_Angeles
BEGIN:DAYLIGHT
TZOFFSETFROM:-0800
TZOFFSETTO:-0700
TZNAME:PDT
DTSTART:20170312T100000
END:DAYLIGHT
BEGIN:STANDARD
TZOFFSETFROM:-0700
TZOFFSETTO:-0800
TZNAME:PST
DTSTART:20171105T090000
END:STANDARD
END:VTIMEZONE
BEGIN:VEVENT
DTSTART;TZID=America/Los_Angeles:20171109T183000
DTEND;TZID=America/Los_Angeles:20171109T183000
DTSTAMP:20260424T212437
CREATED:20171101T184131Z
LAST-MODIFIED:20171101T184131Z
UID:14930-1510252200-1510252200@sfbaytimes.com
SUMMARY:Donna Brazile: The Hacking of an American Election
DESCRIPTION:@ Marines Memorial Theatre\, 609 Sutter Street. Brazile is speaking out about her time as the leader of the Democratic Party in an unfiltered conversation on the 2016 election and the chaotic battlefield of American  politics. 6:30pm. marinesmemorialtheatre.com \n
URL:https://sfbaytimes.com/event/donna-brazile-hacking-american-election/
END:VEVENT
END:VCALENDAR