BEGIN:VCALENDAR
VERSION:2.0
PRODID:-//San Francisco Bay Times - ECPv5.1.0//NONSGML v1.0//EN
CALSCALE:GREGORIAN
METHOD:PUBLISH
X-WR-CALNAME:San Francisco Bay Times
X-ORIGINAL-URL:https://sfbaytimes.com
X-WR-CALDESC:Events for San Francisco Bay Times
BEGIN:VTIMEZONE
TZID:America/Los_Angeles
BEGIN:DAYLIGHT
TZOFFSETFROM:-0800
TZOFFSETTO:-0700
TZNAME:PDT
DTSTART:20170312T100000
END:DAYLIGHT
BEGIN:STANDARD
TZOFFSETFROM:-0700
TZOFFSETTO:-0800
TZNAME:PST
DTSTART:20171105T090000
END:STANDARD
END:VTIMEZONE
BEGIN:VEVENT
DTSTART;TZID=America/Los_Angeles:20170817T190000
DTEND;TZID=America/Los_Angeles:20170817T230000
DTSTAMP:20260422T061351
CREATED:20170809T233614Z
LAST-MODIFIED:20170809T233614Z
UID:13587-1502996400-1503010800@sfbaytimes.com
SUMMARY:Drag Queen Bingo: Portola Prom
DESCRIPTION:@ El Toro Nightclub\, 2470 San Bruno Avenue. Hosted by Pollo Del Mar\, the Portola Neighborhood Association’s prom will crown its Prom Queen and King. 7-11pm. portolasf.org \n
URL:https://sfbaytimes.com/event/drag-queen-bingo-portola-prom/
END:VEVENT
END:VCALENDAR