BEGIN:VCALENDAR
VERSION:2.0
PRODID:-//San Francisco Bay Times - ECPv5.1.0//NONSGML v1.0//EN
CALSCALE:GREGORIAN
METHOD:PUBLISH
X-WR-CALNAME:San Francisco Bay Times
X-ORIGINAL-URL:https://sfbaytimes.com
X-WR-CALDESC:Events for San Francisco Bay Times
BEGIN:VTIMEZONE
TZID:America/Los_Angeles
BEGIN:DAYLIGHT
TZOFFSETFROM:-0800
TZOFFSETTO:-0700
TZNAME:PDT
DTSTART:20180311T100000
END:DAYLIGHT
BEGIN:STANDARD
TZOFFSETFROM:-0700
TZOFFSETTO:-0800
TZNAME:PST
DTSTART:20181104T090000
END:STANDARD
END:VTIMEZONE
BEGIN:VEVENT
DTSTART;TZID=America/Los_Angeles:20180818T110000
DTEND;TZID=America/Los_Angeles:20180818T120000
DTSTAMP:20260420T224958
CREATED:20180809T035915Z
LAST-MODIFIED:20180809T035915Z
UID:19074-1534590000-1534593600@sfbaytimes.com
SUMMARY:Drag Queen Over the Rainbow Storytime
DESCRIPTION:@ Dr. Martin Luther King\, Jr. Library\, 150 E. San Fernando Street\, San Jose. After successful launches in San Francisco and Oakland\, this family-friendly program featuring drag queens reading with children has reached the South Bay. 11am-12noon. http://www.sfpl.org/earlyeducation \n
URL:https://sfbaytimes.com/event/drag-queen-rainbow-storytime/
END:VEVENT
END:VCALENDAR