BEGIN:VCALENDAR
VERSION:2.0
PRODID:-//San Francisco Bay Times - ECPv5.1.0//NONSGML v1.0//EN
CALSCALE:GREGORIAN
METHOD:PUBLISH
X-WR-CALNAME:San Francisco Bay Times
X-ORIGINAL-URL:https://sfbaytimes.com
X-WR-CALDESC:Events for San Francisco Bay Times
BEGIN:VTIMEZONE
TZID:America/Los_Angeles
BEGIN:DAYLIGHT
TZOFFSETFROM:-0800
TZOFFSETTO:-0700
TZNAME:PDT
DTSTART:20170312T100000
END:DAYLIGHT
BEGIN:STANDARD
TZOFFSETFROM:-0700
TZOFFSETTO:-0800
TZNAME:PST
DTSTART:20171105T090000
END:STANDARD
END:VTIMEZONE
BEGIN:VEVENT
DTSTART;TZID=America/Los_Angeles:20170609T200000
DTEND;TZID=America/Los_Angeles:20170609T200000
DTSTAMP:20260425T034805
CREATED:20170607T213712Z
LAST-MODIFIED:20170607T213712Z
UID:12463-1497038400-1497038400@sfbaytimes.com
SUMMARY:Dueling Duos – Nina Gerber & Chris Webster vs Pam & Jeri
DESCRIPTION:@ Throckmorton Theatre\, 142 Throckmorton Avenue\, Mill Valley. 8pm. throckmortontheatre.org \n
URL:https://sfbaytimes.com/event/dueling-duos-nina-gerber-chris-webster-vs-pam-jeri/
END:VEVENT
END:VCALENDAR