BEGIN:VCALENDAR
VERSION:2.0
PRODID:-//San Francisco Bay Times - ECPv5.1.0//NONSGML v1.0//EN
CALSCALE:GREGORIAN
METHOD:PUBLISH
X-WR-CALNAME:San Francisco Bay Times
X-ORIGINAL-URL:https://sfbaytimes.com
X-WR-CALDESC:Events for San Francisco Bay Times
BEGIN:VTIMEZONE
TZID:America/Los_Angeles
BEGIN:DAYLIGHT
TZOFFSETFROM:-0800
TZOFFSETTO:-0700
TZNAME:PDT
DTSTART:20180311T100000
END:DAYLIGHT
BEGIN:STANDARD
TZOFFSETFROM:-0700
TZOFFSETTO:-0800
TZNAME:PST
DTSTART:20181104T090000
END:STANDARD
END:VTIMEZONE
BEGIN:VEVENT
DTSTART;TZID=America/Los_Angeles:20180124T103000
DTEND;TZID=America/Los_Angeles:20180124T123000
DTSTAMP:20260425T121804
CREATED:20180116T033120Z
LAST-MODIFIED:20180116T033120Z
UID:16244-1516789800-1516797000@sfbaytimes.com
SUMMARY:East Bay Coffee Crones
DESCRIPTION:@ Zing! Cafe\, 3051 Adeline Street\, Berkeley. A lesbian social group on Wednesdays meeting for coffee and conversation. 10:30am – 12:30pm. Location varies with Zing! confirmed for November. * \n
URL:https://sfbaytimes.com/event/east-bay-coffee-crones-5/
END:VEVENT
END:VCALENDAR