BEGIN:VCALENDAR
VERSION:2.0
PRODID:-//San Francisco Bay Times - ECPv5.1.0//NONSGML v1.0//EN
CALSCALE:GREGORIAN
METHOD:PUBLISH
X-WR-CALNAME:San Francisco Bay Times
X-ORIGINAL-URL:https://sfbaytimes.com
X-WR-CALDESC:Events for San Francisco Bay Times
BEGIN:VTIMEZONE
TZID:America/Los_Angeles
BEGIN:DAYLIGHT
TZOFFSETFROM:-0800
TZOFFSETTO:-0700
TZNAME:PDT
DTSTART:20170312T100000
END:DAYLIGHT
BEGIN:STANDARD
TZOFFSETFROM:-0700
TZOFFSETTO:-0800
TZNAME:PST
DTSTART:20171105T090000
END:STANDARD
END:VTIMEZONE
BEGIN:VEVENT
DTSTART;TZID=America/Los_Angeles:20171108T173000
DTEND;TZID=America/Los_Angeles:20171108T183000
DTSTAMP:20260425T032952
CREATED:20171101T183516Z
LAST-MODIFIED:20171101T183535Z
UID:14918-1510162200-1510165800@sfbaytimes.com
SUMMARY:Election Anniversary Candlelight Vigil
DESCRIPTION:@ Noe Valley Town Square\, 24th Street. Bring a candle and join the vigil marking the one-year anniversary of the disastrous 2016 election and the idea of reversing the impacts of Trumpism. 5:30-6:30pm. actionsfsolidarity@gmail.com \n
URL:https://sfbaytimes.com/event/election-anniversary-candlelight-vigil/
END:VEVENT
END:VCALENDAR