BEGIN:VCALENDAR
VERSION:2.0
PRODID:-//San Francisco Bay Times - ECPv5.1.0//NONSGML v1.0//EN
CALSCALE:GREGORIAN
METHOD:PUBLISH
X-WR-CALNAME:San Francisco Bay Times
X-ORIGINAL-URL:https://sfbaytimes.com
X-WR-CALDESC:Events for San Francisco Bay Times
BEGIN:VTIMEZONE
TZID:America/Los_Angeles
BEGIN:DAYLIGHT
TZOFFSETFROM:-0800
TZOFFSETTO:-0700
TZNAME:PDT
DTSTART:20170312T100000
END:DAYLIGHT
BEGIN:STANDARD
TZOFFSETFROM:-0700
TZOFFSETTO:-0800
TZNAME:PST
DTSTART:20171105T090000
END:STANDARD
END:VTIMEZONE
BEGIN:VEVENT
DTSTART;TZID=America/Los_Angeles:20170816T200000
DTEND;TZID=America/Los_Angeles:20170817T010000
DTSTAMP:20260422T140648
CREATED:20170809T232734Z
LAST-MODIFIED:20170809T232802Z
UID:13576-1502913600-1502931600@sfbaytimes.com
SUMMARY:Elvis Presley Tribute
DESCRIPTION:@ Make-Out Room\, 3225 22nd Street. Observing the 40th anniversary of The King’s passing\, SF Elvis All Star Band performs with Leigh Crow as Elvis Herselvis and DJs Shindog and Cammy presenting Elvis music and videos. 8pm-1:30am. http://www.makeoutroom.com \n
URL:https://sfbaytimes.com/event/elvis-presley-tribute/
END:VEVENT
END:VCALENDAR