BEGIN:VCALENDAR
VERSION:2.0
PRODID:-//San Francisco Bay Times - ECPv5.1.0//NONSGML v1.0//EN
CALSCALE:GREGORIAN
METHOD:PUBLISH
X-WR-CALNAME:San Francisco Bay Times
X-ORIGINAL-URL:https://sfbaytimes.com
X-WR-CALDESC:Events for San Francisco Bay Times
BEGIN:VTIMEZONE
TZID:America/Los_Angeles
BEGIN:DAYLIGHT
TZOFFSETFROM:-0800
TZOFFSETTO:-0700
TZNAME:PDT
DTSTART:20170312T100000
END:DAYLIGHT
BEGIN:STANDARD
TZOFFSETFROM:-0700
TZOFFSETTO:-0800
TZNAME:PST
DTSTART:20171105T090000
END:STANDARD
END:VTIMEZONE
BEGIN:VEVENT
DTSTART;TZID=America/Los_Angeles:20170611T110000
DTEND;TZID=America/Los_Angeles:20170611T150000
DTSTAMP:20260424T144536
CREATED:20170607T215552Z
LAST-MODIFIED:20170607T215552Z
UID:12485-1497178800-1497193200@sfbaytimes.com
SUMMARY:Equality March for Unity & Pride San Jose
DESCRIPTION:@ San Jose City Hall and route to Plaza de Cesar Chavez Park\, San Jose. Led by a local steering committee as part of a national movement supporting equality and led by LGBTQ community members. 11am-3pm. equalitymarchsj.domoreproject.org * \n
URL:https://sfbaytimes.com/event/equality-march-for-unity-pride-san-jose/
END:VEVENT
END:VCALENDAR