BEGIN:VCALENDAR
VERSION:2.0
PRODID:-//San Francisco Bay Times - ECPv5.1.0//NONSGML v1.0//EN
CALSCALE:GREGORIAN
METHOD:PUBLISH
X-WR-CALNAME:San Francisco Bay Times
X-ORIGINAL-URL:https://sfbaytimes.com
X-WR-CALDESC:Events for San Francisco Bay Times
BEGIN:VTIMEZONE
TZID:America/Los_Angeles
BEGIN:DAYLIGHT
TZOFFSETFROM:-0800
TZOFFSETTO:-0700
TZNAME:PDT
DTSTART:20170312T100000
END:DAYLIGHT
BEGIN:STANDARD
TZOFFSETFROM:-0700
TZOFFSETTO:-0800
TZNAME:PST
DTSTART:20171105T090000
END:STANDARD
END:VTIMEZONE
BEGIN:VEVENT
DTSTART;TZID=America/Los_Angeles:20170927T190000
DTEND;TZID=America/Los_Angeles:20170927T210000
DTSTAMP:20260422T162257
CREATED:20170922T214736Z
LAST-MODIFIED:20170922T214736Z
UID:14313-1506538800-1506546000@sfbaytimes.com
SUMMARY:Eureka Valley Neighborhood Association Meeting
DESCRIPTION:@ Harvey Milk Civil Rights Academy\, 19th and Collingwood Streets. Find out about the activities and issues addressed by the Association as well as volunteer opportunities. 7-9pm. evna.org \n
URL:https://sfbaytimes.com/event/eureka-valley-neighborhood-association-meeting/
END:VEVENT
END:VCALENDAR