BEGIN:VCALENDAR
VERSION:2.0
PRODID:-//San Francisco Bay Times - ECPv5.1.0//NONSGML v1.0//EN
CALSCALE:GREGORIAN
METHOD:PUBLISH
X-WR-CALNAME:San Francisco Bay Times
X-ORIGINAL-URL:https://sfbaytimes.com
X-WR-CALDESC:Events for San Francisco Bay Times
BEGIN:VTIMEZONE
TZID:America/Los_Angeles
BEGIN:DAYLIGHT
TZOFFSETFROM:-0800
TZOFFSETTO:-0700
TZNAME:PDT
DTSTART:20180311T100000
END:DAYLIGHT
BEGIN:STANDARD
TZOFFSETFROM:-0700
TZOFFSETTO:-0800
TZNAME:PST
DTSTART:20181104T090000
END:STANDARD
END:VTIMEZONE
BEGIN:VEVENT
DTSTART;TZID=America/Los_Angeles:20180330T193000
DTEND;TZID=America/Los_Angeles:20180330T193000
DTSTAMP:20260423T190121
CREATED:20180321T180400Z
LAST-MODIFIED:20180321T180400Z
UID:17214-1522438200-1522438200@sfbaytimes.com
SUMMARY:An Evening with Chelsea Manning
DESCRIPTION:@ Herbst Theatre\, 401 Van Ness. The CIIS Public Programs presents the event with Manning speaking on artificial intelligence\, consciousness and trans identity. 7:30pm. cityboxoffice.com \n
URL:https://sfbaytimes.com/event/evening-chelsea-manning/
END:VEVENT
END:VCALENDAR