BEGIN:VCALENDAR
VERSION:2.0
PRODID:-//San Francisco Bay Times - ECPv5.1.0//NONSGML v1.0//EN
CALSCALE:GREGORIAN
METHOD:PUBLISH
X-WR-CALNAME:San Francisco Bay Times
X-ORIGINAL-URL:https://sfbaytimes.com
X-WR-CALDESC:Events for San Francisco Bay Times
BEGIN:VTIMEZONE
TZID:America/Los_Angeles
BEGIN:DAYLIGHT
TZOFFSETFROM:-0800
TZOFFSETTO:-0700
TZNAME:PDT
DTSTART:20170312T100000
END:DAYLIGHT
BEGIN:STANDARD
TZOFFSETFROM:-0700
TZOFFSETTO:-0800
TZNAME:PST
DTSTART:20171105T090000
END:STANDARD
END:VTIMEZONE
BEGIN:VEVENT
DTSTART;TZID=America/Los_Angeles:20170731T110000
DTEND;TZID=America/Los_Angeles:20170731T110000
DTSTAMP:20260424T041129
CREATED:20170728T195042Z
LAST-MODIFIED:20170728T195042Z
UID:13518-1501498800-1501498800@sfbaytimes.com
SUMMARY:Faces of the Past: Queer Lives in Northern California Before 1930
DESCRIPTION:@ GLBT History Museum\, 4127 18th Street. In conjunction with a display of documents\, photos and artifacts presented as part of the Queer Past Becomes Present\nexhibit\, the event includes a panel featuring curators Paula Lichtenberg and San Francisco Bay Times columnist Bill Lipsky and also features an exhibit of portraits by artist/photographer Lenore Chinn. 11am-6pm Monday-Saturday; 12noon-6pm Sunday. glbthistory.org \n
URL:https://sfbaytimes.com/event/faces-past-queer-lives-northern-california-1930-2/
END:VEVENT
END:VCALENDAR