BEGIN:VCALENDAR
VERSION:2.0
PRODID:-//San Francisco Bay Times - ECPv5.1.0//NONSGML v1.0//EN
CALSCALE:GREGORIAN
METHOD:PUBLISH
X-WR-CALNAME:San Francisco Bay Times
X-ORIGINAL-URL:https://sfbaytimes.com
X-WR-CALDESC:Events for San Francisco Bay Times
BEGIN:VTIMEZONE
TZID:America/Los_Angeles
BEGIN:DAYLIGHT
TZOFFSETFROM:-0800
TZOFFSETTO:-0700
TZNAME:PDT
DTSTART:20170312T100000
END:DAYLIGHT
BEGIN:STANDARD
TZOFFSETFROM:-0700
TZOFFSETTO:-0800
TZNAME:PST
DTSTART:20171105T090000
END:STANDARD
END:VTIMEZONE
BEGIN:VEVENT
DTSTART;TZID=America/Los_Angeles:20170812T120000
DTEND;TZID=America/Los_Angeles:20170812T150000
DTSTAMP:20260423T102457
CREATED:20170809T231307Z
LAST-MODIFIED:20170809T231307Z
UID:13552-1502539200-1502550000@sfbaytimes.com
SUMMARY:Family Dog Rescue – Castro
DESCRIPTION:@ 18th and Castro. Weekly mobile adoption event on Saturdays.12-3pm. wearefamilydog.com \n
URL:https://sfbaytimes.com/event/family-dog-rescue-castro-2/
END:VEVENT
END:VCALENDAR