BEGIN:VCALENDAR
VERSION:2.0
PRODID:-//San Francisco Bay Times - ECPv5.1.0//NONSGML v1.0//EN
CALSCALE:GREGORIAN
METHOD:PUBLISH
X-WR-CALNAME:San Francisco Bay Times
X-ORIGINAL-URL:https://sfbaytimes.com
X-WR-CALDESC:Events for San Francisco Bay Times
BEGIN:VTIMEZONE
TZID:America/Los_Angeles
BEGIN:DAYLIGHT
TZOFFSETFROM:-0800
TZOFFSETTO:-0700
TZNAME:PDT
DTSTART:20190310T100000
END:DAYLIGHT
BEGIN:STANDARD
TZOFFSETFROM:-0700
TZOFFSETTO:-0800
TZNAME:PST
DTSTART:20191103T090000
END:STANDARD
END:VTIMEZONE
BEGIN:VEVENT
DTSTART;TZID=America/Los_Angeles:20190313T180000
DTEND;TZID=America/Los_Angeles:20190313T190000
DTSTAMP:20260420T130250
CREATED:20190307T224722Z
LAST-MODIFIED:20190307T224722Z
UID:22263-1552500000-1552503600@sfbaytimes.com
SUMMARY:Farm to City: Lesbian\, Gay and Queer Writers Discuss Their Rural Roots
DESCRIPTION:@ James C. Hormel LGBTQIA Center\, SF Main Library\, 100 Larkin Street. Writers\, including Nona Caspers\, Vernon Keeve III\, Jim Provenzano\, James J. Siegel and Mark Abramson\, will discuss their rural roots and how they shape life experiences and literary works. 6-7pm. http://www.sfpl.org \n
URL:https://sfbaytimes.com/event/farm-city-lesbian-gay-queer-writers-discuss-rural-roots/
END:VEVENT
END:VCALENDAR