BEGIN:VCALENDAR
VERSION:2.0
PRODID:-//San Francisco Bay Times - ECPv5.1.0//NONSGML v1.0//EN
CALSCALE:GREGORIAN
METHOD:PUBLISH
X-WR-CALNAME:San Francisco Bay Times
X-ORIGINAL-URL:https://sfbaytimes.com
X-WR-CALDESC:Events for San Francisco Bay Times
BEGIN:VTIMEZONE
TZID:America/Los_Angeles
BEGIN:DAYLIGHT
TZOFFSETFROM:-0800
TZOFFSETTO:-0700
TZNAME:PDT
DTSTART:20190310T100000
END:DAYLIGHT
BEGIN:STANDARD
TZOFFSETFROM:-0700
TZOFFSETTO:-0800
TZNAME:PST
DTSTART:20191103T090000
END:STANDARD
END:VTIMEZONE
BEGIN:VEVENT
DTSTART;TZID=America/Los_Angeles:20190328T190000
DTEND;TZID=America/Los_Angeles:20190328T210000
DTSTAMP:20260420T143504
CREATED:20190322T035409Z
LAST-MODIFIED:20190322T035410Z
UID:22510-1553799600-1553806800@sfbaytimes.com
SUMMARY:Fighting Back | The L and the GBTQ: Visibility\, Leadership and Political Power
DESCRIPTION:@ GLBT History Museum\, 4127 18th Street. A panel of historians\, community organizers and advocates will discuss the struggles and successes of lesbians in relationship to history\, the LGBTQ community and coalition building in the Bay Area. 7-9pm. http://www.glbthistory.org \n
URL:https://sfbaytimes.com/event/fighting-back-l-gbtq-visibility-leadership-political-power/
END:VEVENT
END:VCALENDAR