BEGIN:VCALENDAR
VERSION:2.0
PRODID:-//San Francisco Bay Times - ECPv5.1.0//NONSGML v1.0//EN
CALSCALE:GREGORIAN
METHOD:PUBLISH
X-WR-CALNAME:San Francisco Bay Times
X-ORIGINAL-URL:https://sfbaytimes.com
X-WR-CALDESC:Events for San Francisco Bay Times
BEGIN:VTIMEZONE
TZID:America/Los_Angeles
BEGIN:DAYLIGHT
TZOFFSETFROM:-0800
TZOFFSETTO:-0700
TZNAME:PDT
DTSTART:20170312T100000
END:DAYLIGHT
BEGIN:STANDARD
TZOFFSETFROM:-0700
TZOFFSETTO:-0800
TZNAME:PST
DTSTART:20171105T090000
END:STANDARD
END:VTIMEZONE
BEGIN:VEVENT
DTSTART;TZID=America/Los_Angeles:20170725T190000
DTEND;TZID=America/Los_Angeles:20170725T210000
DTSTAMP:20260423T051226
CREATED:20170714T200756Z
LAST-MODIFIED:20170714T200756Z
UID:13140-1501009200-1501016400@sfbaytimes.com
SUMMARY:Fighting Back: The Making of a Queer Museum
DESCRIPTION:@ GLBT History Museum\, 4127 18th Street. The monthly series “Fighting Back” presenting a multigenerational discussion\nabout the role of museums in a panel of activists\, scholars and museum professionals. 7-9pm. glbthistory.org \n
URL:https://sfbaytimes.com/event/fighting-back-making-queer-museum/
END:VEVENT
END:VCALENDAR