BEGIN:VCALENDAR
VERSION:2.0
PRODID:-//San Francisco Bay Times - ECPv5.1.0//NONSGML v1.0//EN
CALSCALE:GREGORIAN
METHOD:PUBLISH
X-WR-CALNAME:San Francisco Bay Times
X-ORIGINAL-URL:https://sfbaytimes.com
X-WR-CALDESC:Events for San Francisco Bay Times
BEGIN:VTIMEZONE
TZID:America/Los_Angeles
BEGIN:DAYLIGHT
TZOFFSETFROM:-0800
TZOFFSETTO:-0700
TZNAME:PDT
DTSTART:20190310T100000
END:DAYLIGHT
BEGIN:STANDARD
TZOFFSETFROM:-0700
TZOFFSETTO:-0800
TZNAME:PST
DTSTART:20191103T090000
END:STANDARD
END:VTIMEZONE
BEGIN:VEVENT
DTSTART;TZID=America/Los_Angeles:20190523T190000
DTEND;TZID=America/Los_Angeles:20190523T210000
DTSTAMP:20260420T161409
CREATED:20190515T224256Z
LAST-MODIFIED:20190515T224256Z
UID:23218-1558638000-1558645200@sfbaytimes.com
SUMMARY:Fighting Back/Unions\, Workers and Queers
DESCRIPTION:@ GLBT History Museum\, 4127 18th Street. The latest in the “Fighting Back” series\, the event includes a panel discussion on the support of organized labor for the Bay Area’s LGBTQ community. 7-9pm. http://www.glbthistory.org \n
URL:https://sfbaytimes.com/event/fighting-back-unions-workers-queers/
END:VEVENT
END:VCALENDAR