BEGIN:VCALENDAR
VERSION:2.0
PRODID:-//San Francisco Bay Times - ECPv5.1.0//NONSGML v1.0//EN
CALSCALE:GREGORIAN
METHOD:PUBLISH
X-WR-CALNAME:San Francisco Bay Times
X-ORIGINAL-URL:https://sfbaytimes.com
X-WR-CALDESC:Events for San Francisco Bay Times
BEGIN:VTIMEZONE
TZID:America/Los_Angeles
BEGIN:DAYLIGHT
TZOFFSETFROM:-0800
TZOFFSETTO:-0700
TZNAME:PDT
DTSTART:20170312T100000
END:DAYLIGHT
BEGIN:STANDARD
TZOFFSETFROM:-0700
TZOFFSETTO:-0800
TZNAME:PST
DTSTART:20171105T090000
END:STANDARD
END:VTIMEZONE
BEGIN:VEVENT
DTSTART;TZID=America/Los_Angeles:20170620T190000
DTEND;TZID=America/Los_Angeles:20170620T210000
DTSTAMP:20260422T184028
CREATED:20170607T221904Z
LAST-MODIFIED:20170607T221904Z
UID:12541-1497985200-1497992400@sfbaytimes.com
SUMMARY:Fighting Back: When the Dykes Went Marching In
DESCRIPTION:@ GLBT Historical Society Museum\, 4127 18th Street. A GLBT Historical Scoiety’s Fighting Back Series event celebrating 1990s lesbian activism in a multigenerational conversation. 7-9pm. glbthistory.org\n\n
URL:https://sfbaytimes.com/event/fighting-back-when-the-dykes-went-marching-in/
END:VEVENT
END:VCALENDAR