BEGIN:VCALENDAR
VERSION:2.0
PRODID:-//San Francisco Bay Times - ECPv5.1.0//NONSGML v1.0//EN
CALSCALE:GREGORIAN
METHOD:PUBLISH
X-WR-CALNAME:San Francisco Bay Times
X-ORIGINAL-URL:https://sfbaytimes.com
X-WR-CALDESC:Events for San Francisco Bay Times
BEGIN:VTIMEZONE
TZID:America/Los_Angeles
BEGIN:DAYLIGHT
TZOFFSETFROM:-0800
TZOFFSETTO:-0700
TZNAME:PDT
DTSTART:20170312T100000
END:DAYLIGHT
BEGIN:STANDARD
TZOFFSETFROM:-0700
TZOFFSETTO:-0800
TZNAME:PST
DTSTART:20171105T090000
END:STANDARD
END:VTIMEZONE
BEGIN:VEVENT
DTSTART;TZID=America/Los_Angeles:20170910T160000
DTEND;TZID=America/Los_Angeles:20170910T190000
DTSTAMP:20260421T142403
CREATED:20170908T211555Z
LAST-MODIFIED:20170908T211555Z
UID:14122-1505059200-1505070000@sfbaytimes.com
SUMMARY:Finale & Crowning of Mr and Miss Golden Gate
DESCRIPTION:@ TechShop San Francisco Gallery\, 910 Howard Street. SF Imperial Court’s Emperor Nic Hunter and Empress Mercedez Munro host the annual event benefitting the Monarch’s Admin Fund and the Monarch’s Charity Fund. 4-7pm. imperialcouncilsf.org \n
URL:https://sfbaytimes.com/event/finale-crowning-mr-miss-golden-gate/
END:VEVENT
END:VCALENDAR