BEGIN:VCALENDAR
VERSION:2.0
PRODID:-//San Francisco Bay Times - ECPv5.1.0//NONSGML v1.0//EN
CALSCALE:GREGORIAN
METHOD:PUBLISH
X-WR-CALNAME:San Francisco Bay Times
X-ORIGINAL-URL:https://sfbaytimes.com
X-WR-CALDESC:Events for San Francisco Bay Times
BEGIN:VTIMEZONE
TZID:America/Los_Angeles
BEGIN:DAYLIGHT
TZOFFSETFROM:-0800
TZOFFSETTO:-0700
TZNAME:PDT
DTSTART:20180311T100000
END:DAYLIGHT
BEGIN:STANDARD
TZOFFSETFROM:-0700
TZOFFSETTO:-0800
TZNAME:PST
DTSTART:20181104T090000
END:STANDARD
END:VTIMEZONE
BEGIN:VEVENT
DTSTART;TZID=America/Los_Angeles:20180930T110000
DTEND;TZID=America/Los_Angeles:20180930T180000
DTSTAMP:20260419T205437
CREATED:20180923T204655Z
LAST-MODIFIED:20180923T204655Z
UID:19655-1538305200-1538330400@sfbaytimes.com
SUMMARY:Folsom Street Fair
DESCRIPTION:@ Folsom Street\, San Francisco. Leather and fetish fans from all over the world gather for the lagest annual leather event in the U.S. 11am-6pm. http://www.folsomstreetevents.org \n
URL:https://sfbaytimes.com/event/folsom-street-fair/
END:VEVENT
END:VCALENDAR