BEGIN:VCALENDAR
VERSION:2.0
PRODID:-//San Francisco Bay Times - ECPv5.1.0//NONSGML v1.0//EN
CALSCALE:GREGORIAN
METHOD:PUBLISH
X-WR-CALNAME:San Francisco Bay Times
X-ORIGINAL-URL:https://sfbaytimes.com
X-WR-CALDESC:Events for San Francisco Bay Times
BEGIN:VTIMEZONE
TZID:America/Los_Angeles
BEGIN:DAYLIGHT
TZOFFSETFROM:-0800
TZOFFSETTO:-0700
TZNAME:PDT
DTSTART:20180311T100000
END:DAYLIGHT
BEGIN:STANDARD
TZOFFSETFROM:-0700
TZOFFSETTO:-0800
TZNAME:PST
DTSTART:20181104T090000
END:STANDARD
END:VTIMEZONE
BEGIN:VEVENT
DTSTART;TZID=America/Los_Angeles:20181124T190000
DTEND;TZID=America/Los_Angeles:20181124T203000
DTSTAMP:20260424T152424
CREATED:20181119T204406Z
LAST-MODIFIED:20181119T204406Z
UID:20534-1543086000-1543091400@sfbaytimes.com
SUMMARY:Food Glorious Food!
DESCRIPTION:@ Martuni’s\, 4 Valencia. Featuring The Velvet Variety band\, this holiday kickoff is a sendup of America’s favorite pastime\, food\, with music from broadway\, opera\, country\, jazz and pop plus lots of laughs. 7-8:30pm. http://www.thevelvetvariety.net \n
URL:https://sfbaytimes.com/event/food-glorious-food/
END:VEVENT
END:VCALENDAR