BEGIN:VCALENDAR
VERSION:2.0
PRODID:-//San Francisco Bay Times - ECPv5.1.0//NONSGML v1.0//EN
CALSCALE:GREGORIAN
METHOD:PUBLISH
X-WR-CALNAME:San Francisco Bay Times
X-ORIGINAL-URL:https://sfbaytimes.com
X-WR-CALDESC:Events for San Francisco Bay Times
BEGIN:VTIMEZONE
TZID:America/Los_Angeles
BEGIN:DAYLIGHT
TZOFFSETFROM:-0800
TZOFFSETTO:-0700
TZNAME:PDT
DTSTART:20190310T100000
END:DAYLIGHT
BEGIN:STANDARD
TZOFFSETFROM:-0700
TZOFFSETTO:-0800
TZNAME:PST
DTSTART:20191103T090000
END:STANDARD
END:VTIMEZONE
BEGIN:VEVENT
DTSTART;TZID=America/Los_Angeles:20190529T190000
DTEND;TZID=America/Los_Angeles:20190529T220000
DTSTAMP:20260420T161537
CREATED:20190515T225602Z
LAST-MODIFIED:20190515T225602Z
UID:23244-1559156400-1559167200@sfbaytimes.com
SUMMARY:Frameline43 Volunteer Orientation - Session #1
DESCRIPTION:@ SF LGBT Center\, 1800 Market Street. You are invited to join the Frameline Volunteer Team with various positions available. 7-10pm. http://www.shiftboard.com/frameline \n
URL:https://sfbaytimes.com/event/frameline43-volunteer-orientation-session-1/
END:VEVENT
END:VCALENDAR