BEGIN:VCALENDAR
VERSION:2.0
PRODID:-//San Francisco Bay Times - ECPv5.1.0//NONSGML v1.0//EN
CALSCALE:GREGORIAN
METHOD:PUBLISH
X-WR-CALNAME:San Francisco Bay Times
X-ORIGINAL-URL:https://sfbaytimes.com
X-WR-CALDESC:Events for San Francisco Bay Times
BEGIN:VTIMEZONE
TZID:America/Los_Angeles
BEGIN:DAYLIGHT
TZOFFSETFROM:-0800
TZOFFSETTO:-0700
TZNAME:PDT
DTSTART:20180311T100000
END:DAYLIGHT
BEGIN:STANDARD
TZOFFSETFROM:-0700
TZOFFSETTO:-0800
TZNAME:PST
DTSTART:20181104T090000
END:STANDARD
END:VTIMEZONE
BEGIN:VEVENT
DTSTART;TZID=America/Los_Angeles:20180929T210000
DTEND;TZID=America/Los_Angeles:20180929T210000
DTSTAMP:20260419T220903
CREATED:20180923T204515Z
LAST-MODIFIED:20180923T204515Z
UID:19652-1538254800-1538254800@sfbaytimes.com
SUMMARY:Galilea Saturdays
DESCRIPTION:@ Ginger’s\, 86 Hardie Place. Galilea hosts this monthly show featuring “real San Francisco drag” with special guest DJs. 9pm. http://www.gingers.bar \n
URL:https://sfbaytimes.com/event/galilea-saturdays-2/
END:VEVENT
END:VCALENDAR