BEGIN:VCALENDAR
VERSION:2.0
PRODID:-//San Francisco Bay Times - ECPv5.1.0//NONSGML v1.0//EN
CALSCALE:GREGORIAN
METHOD:PUBLISH
X-WR-CALNAME:San Francisco Bay Times
X-ORIGINAL-URL:https://sfbaytimes.com
X-WR-CALDESC:Events for San Francisco Bay Times
BEGIN:VTIMEZONE
TZID:America/Los_Angeles
BEGIN:DAYLIGHT
TZOFFSETFROM:-0800
TZOFFSETTO:-0700
TZNAME:PDT
DTSTART:20170312T100000
END:DAYLIGHT
BEGIN:STANDARD
TZOFFSETFROM:-0700
TZOFFSETTO:-0800
TZNAME:PST
DTSTART:20171105T090000
END:STANDARD
END:VTIMEZONE
BEGIN:VEVENT
DTSTART;TZID=America/Los_Angeles:20170909T200000
DTEND;TZID=America/Los_Angeles:20170909T200000
DTSTAMP:20260421T124427
CREATED:20170908T211329Z
LAST-MODIFIED:20170908T211329Z
UID:14115-1504987200-1504987200@sfbaytimes.com
SUMMARY:GAPA Men’s Chorus
DESCRIPTION:@ First Unitarian Church of Oakland\, 685 14th Street\, Oakland. Gay Asian Pacific Alliance (GAPA) presents Rise Up! Songs of Resistance & Love\, featuring a multilingual selection of songs in defiant response to intolerance and oppression\, while embracing an inclusive vision of love. 8pm. gapamc.org \n
URL:https://sfbaytimes.com/event/gapa-mens-chorus/
END:VEVENT
END:VCALENDAR