BEGIN:VCALENDAR
VERSION:2.0
PRODID:-//San Francisco Bay Times - ECPv5.1.0//NONSGML v1.0//EN
CALSCALE:GREGORIAN
METHOD:PUBLISH
X-WR-CALNAME:San Francisco Bay Times
X-ORIGINAL-URL:https://sfbaytimes.com
X-WR-CALDESC:Events for San Francisco Bay Times
BEGIN:VTIMEZONE
TZID:America/Los_Angeles
BEGIN:DAYLIGHT
TZOFFSETFROM:-0800
TZOFFSETTO:-0700
TZNAME:PDT
DTSTART:20170312T100000
END:DAYLIGHT
BEGIN:STANDARD
TZOFFSETFROM:-0700
TZOFFSETTO:-0800
TZNAME:PST
DTSTART:20171105T090000
END:STANDARD
END:VTIMEZONE
BEGIN:VEVENT
DTSTART;TZID=America/Los_Angeles:20170610T200000
DTEND;TZID=America/Los_Angeles:20170610T200000
DTSTAMP:20260424T180827
CREATED:20170607T215254Z
LAST-MODIFIED:20170607T215254Z
UID:12477-1497124800-1497124800@sfbaytimes.com
SUMMARY:Garrin Benfield: SF House Concert
DESCRIPTION:@ Diamond Heights location. Meet the Brooklyn-based guitarist and husband Jason visiting the Bay Area from NYC. RSVP to rsvp@foghouseconcerts.com. garrin.com\n\n
URL:https://sfbaytimes.com/event/garrin-benfield-sf-house-concert/
END:VEVENT
END:VCALENDAR