BEGIN:VCALENDAR
VERSION:2.0
PRODID:-//San Francisco Bay Times - ECPv5.1.0//NONSGML v1.0//EN
CALSCALE:GREGORIAN
METHOD:PUBLISH
X-WR-CALNAME:San Francisco Bay Times
X-ORIGINAL-URL:https://sfbaytimes.com
X-WR-CALDESC:Events for San Francisco Bay Times
BEGIN:VTIMEZONE
TZID:America/Los_Angeles
BEGIN:DAYLIGHT
TZOFFSETFROM:-0800
TZOFFSETTO:-0700
TZNAME:PDT
DTSTART:20190310T100000
END:DAYLIGHT
BEGIN:STANDARD
TZOFFSETFROM:-0700
TZOFFSETTO:-0800
TZNAME:PST
DTSTART:20191103T090000
END:STANDARD
END:VTIMEZONE
BEGIN:VEVENT
DTSTART;TZID=America/Los_Angeles:20190507T190000
DTEND;TZID=America/Los_Angeles:20190507T210000
DTSTAMP:20260420T161409
CREATED:20190501T213048Z
LAST-MODIFIED:20190501T213048Z
UID:23005-1557255600-1557262800@sfbaytimes.com
SUMMARY:Gay USA Screening
DESCRIPTION:@ Roxie Theater\, 3117 16th Street. OUTLook\, Frameline and SF Pride co-present a new restoration of the first documentary by and about LGBT people that chronicles one of the most important years in LGBT history and the national Gay Freedom Day marches in June of 1977 held in San Francisco\, New York\, Los Angeles\, Chicago\, San Diego and Philadelphia. 7-9pm. http://www.roxie.com \n
URL:https://sfbaytimes.com/event/gay-usa-screening/
END:VEVENT
END:VCALENDAR