BEGIN:VCALENDAR
VERSION:2.0
PRODID:-//San Francisco Bay Times - ECPv5.1.0//NONSGML v1.0//EN
CALSCALE:GREGORIAN
METHOD:PUBLISH
X-WR-CALNAME:San Francisco Bay Times
X-ORIGINAL-URL:https://sfbaytimes.com
X-WR-CALDESC:Events for San Francisco Bay Times
BEGIN:VTIMEZONE
TZID:America/Los_Angeles
BEGIN:DAYLIGHT
TZOFFSETFROM:-0800
TZOFFSETTO:-0700
TZNAME:PDT
DTSTART:20180311T100000
END:DAYLIGHT
BEGIN:STANDARD
TZOFFSETFROM:-0700
TZOFFSETTO:-0800
TZNAME:PST
DTSTART:20181104T090000
END:STANDARD
END:VTIMEZONE
BEGIN:VEVENT
DTSTART;TZID=America/Los_Angeles:20180329T190000
DTEND;TZID=America/Los_Angeles:20180329T190000
DTSTAMP:20260423T203022
CREATED:20180321T175945Z
LAST-MODIFIED:20180321T175945Z
UID:17204-1522350000-1522350000@sfbaytimes.com
SUMMARY:Glori Simmons: Author of Carry You
DESCRIPTION:@ Laurel Bookstore\, 1423 Broadway\, Oakland. The award-winning author\, who has taught throughout the Bay Area and is now the director of the Thacher Gallery at USF will present her new book. 7pm. laurelbookstore.com \n
URL:https://sfbaytimes.com/event/glori-simmons-author-carry/
END:VEVENT
END:VCALENDAR