BEGIN:VCALENDAR
VERSION:2.0
PRODID:-//San Francisco Bay Times - ECPv5.1.0//NONSGML v1.0//EN
CALSCALE:GREGORIAN
METHOD:PUBLISH
X-WR-CALNAME:San Francisco Bay Times
X-ORIGINAL-URL:https://sfbaytimes.com
X-WR-CALDESC:Events for San Francisco Bay Times
BEGIN:VTIMEZONE
TZID:America/Los_Angeles
BEGIN:DAYLIGHT
TZOFFSETFROM:-0800
TZOFFSETTO:-0700
TZNAME:PDT
DTSTART:20170312T100000
END:DAYLIGHT
BEGIN:STANDARD
TZOFFSETFROM:-0700
TZOFFSETTO:-0800
TZNAME:PST
DTSTART:20171105T090000
END:STANDARD
END:VTIMEZONE
BEGIN:VEVENT
DTSTART;TZID=America/Los_Angeles:20170909T110000
DTEND;TZID=America/Los_Angeles:20170909T150000
DTSTAMP:20260421T141045
CREATED:20170908T211006Z
LAST-MODIFIED:20170908T211006Z
UID:14107-1504954800-1504969200@sfbaytimes.com
SUMMARY:Golden Gate Gaymes and Picnic 2017
DESCRIPTION:@ Collingwood Park\, 149 Diamond Street. An annual day of food\, fun and gaymes celebrating the finale of the Mr and Miss Golden Gate selection with an after party at Animal House of Beaux. 11am-3pm. imperialcouncilsf.org \n
URL:https://sfbaytimes.com/event/golden-gate-gaymes-picnic-2017/
END:VEVENT
END:VCALENDAR