BEGIN:VCALENDAR
VERSION:2.0
PRODID:-//San Francisco Bay Times - ECPv5.1.0//NONSGML v1.0//EN
CALSCALE:GREGORIAN
METHOD:PUBLISH
X-WR-CALNAME:San Francisco Bay Times
X-ORIGINAL-URL:https://sfbaytimes.com
X-WR-CALDESC:Events for San Francisco Bay Times
BEGIN:VTIMEZONE
TZID:America/Los_Angeles
BEGIN:DAYLIGHT
TZOFFSETFROM:-0800
TZOFFSETTO:-0700
TZNAME:PDT
DTSTART:20170312T100000
END:DAYLIGHT
BEGIN:STANDARD
TZOFFSETFROM:-0700
TZOFFSETTO:-0800
TZNAME:PST
DTSTART:20171105T090000
END:STANDARD
END:VTIMEZONE
BEGIN:VEVENT
DTSTART;TZID=America/Los_Angeles:20170911T190000
DTEND;TZID=America/Los_Angeles:20170911T220000
DTSTAMP:20260421T153800
CREATED:20170908T212003Z
LAST-MODIFIED:20170908T212003Z
UID:14132-1505156400-1505167200@sfbaytimes.com
SUMMARY:Grand Duke 42\, Aja Monet-Ashton’s Monthly Bar Crawl
DESCRIPTION:@ The Cinch\, 1723 Polk Street. Meet the candidates running for the office of Grand Duke and Grand Duchess at this month’s event hosted by Grand Duchess Colette LeGrande-Ashton and Grand Duke Carlos Medal Romanoff. 7-10pm. sfducal.org \n
URL:https://sfbaytimes.com/event/grand-duke-42-aja-monet-ashtons-monthly-bar-crawl/
END:VEVENT
END:VCALENDAR