BEGIN:VCALENDAR
VERSION:2.0
PRODID:-//San Francisco Bay Times - ECPv5.1.0//NONSGML v1.0//EN
CALSCALE:GREGORIAN
METHOD:PUBLISH
X-WR-CALNAME:San Francisco Bay Times
X-ORIGINAL-URL:https://sfbaytimes.com
X-WR-CALDESC:Events for San Francisco Bay Times
BEGIN:VTIMEZONE
TZID:America/Los_Angeles
BEGIN:DAYLIGHT
TZOFFSETFROM:-0800
TZOFFSETTO:-0700
TZNAME:PDT
DTSTART:20170312T100000
END:DAYLIGHT
BEGIN:STANDARD
TZOFFSETFROM:-0700
TZOFFSETTO:-0800
TZNAME:PST
DTSTART:20171105T090000
END:STANDARD
END:VTIMEZONE
BEGIN:VEVENT
DTSTART;TZID=America/Los_Angeles:20170828T090000
DTEND;TZID=America/Los_Angeles:20170828T170000
DTSTAMP:20260421T221238
CREATED:20170828T230512Z
LAST-MODIFIED:20170828T230512Z
UID:13932-1503910800-1503939600@sfbaytimes.com
SUMMARY:Hair: An Homage to the Summer of Love Exhibit
DESCRIPTION:@ McLaren Lodge\, 501 Stanyan Street. Curated by Harvey Milk Photography Center’s Dave Christensen\, the exhibit celebrates the 50th Anniversary of the Broadway play. Monday-Friday\, 9am-5pm. harveymilkphotocenter.org \n
URL:https://sfbaytimes.com/event/hair-homage-summer-love-exhibit/
END:VEVENT
END:VCALENDAR