BEGIN:VCALENDAR
VERSION:2.0
PRODID:-//San Francisco Bay Times - ECPv5.1.0//NONSGML v1.0//EN
CALSCALE:GREGORIAN
METHOD:PUBLISH
X-WR-CALNAME:San Francisco Bay Times
X-ORIGINAL-URL:https://sfbaytimes.com
X-WR-CALDESC:Events for San Francisco Bay Times
BEGIN:VTIMEZONE
TZID:America/Los_Angeles
BEGIN:DAYLIGHT
TZOFFSETFROM:-0800
TZOFFSETTO:-0700
TZNAME:PDT
DTSTART:20170312T100000
END:DAYLIGHT
BEGIN:STANDARD
TZOFFSETFROM:-0700
TZOFFSETTO:-0800
TZNAME:PST
DTSTART:20171105T090000
END:STANDARD
END:VTIMEZONE
BEGIN:VEVENT
DTSTART;TZID=America/Los_Angeles:20171108T180000
DTEND;TZID=America/Los_Angeles:20171108T180000
DTSTAMP:20260425T002330
CREATED:20171101T183803Z
LAST-MODIFIED:20171101T183803Z
UID:14924-1510164000-1510164000@sfbaytimes.com
SUMMARY:Harvey’s Halo Grand Lighting
DESCRIPTION:@ Harvey Milk Plaza\, Castro & Market Streets. A celebration Grand Lighting the new Harvey’s Halo public art exhibit and the unveiling of the Hope Will Never Be Silent presentation by Illuminate\, the team that created the Bay Lights and the Conservatory of Flowers’s Summer of Love light show. 6pm. illuminate.org \n
URL:https://sfbaytimes.com/event/harveys-halo-grand-lighting/
END:VEVENT
END:VCALENDAR