BEGIN:VCALENDAR
VERSION:2.0
PRODID:-//San Francisco Bay Times - ECPv5.1.0//NONSGML v1.0//EN
CALSCALE:GREGORIAN
METHOD:PUBLISH
X-WR-CALNAME:San Francisco Bay Times
X-ORIGINAL-URL:https://sfbaytimes.com
X-WR-CALDESC:Events for San Francisco Bay Times
BEGIN:VTIMEZONE
TZID:America/Los_Angeles
BEGIN:DAYLIGHT
TZOFFSETFROM:-0800
TZOFFSETTO:-0700
TZNAME:PDT
DTSTART:20170312T100000
END:DAYLIGHT
BEGIN:STANDARD
TZOFFSETFROM:-0700
TZOFFSETTO:-0800
TZNAME:PST
DTSTART:20171105T090000
END:STANDARD
END:VTIMEZONE
BEGIN:VEVENT
DTSTART;TZID=America/Los_Angeles:20170616T123000
DTEND;TZID=America/Los_Angeles:20170616T130000
DTSTAMP:20260423T190857
CREATED:20170607T220739Z
LAST-MODIFIED:20170607T220739Z
UID:12515-1497616200-1497618000@sfbaytimes.com
SUMMARY:Have a Poet for Lunch with Sherilyn Connelly
DESCRIPTION:@ Contemporary Jewish Museum\, 736 Mission Street. The SF-based writer\, librarian and film critic reads from her first non-fiction book Ponyville Confidential: The History and Culture of My Little Pony. 12:30-1PM.  thecjm.org\n\n
URL:https://sfbaytimes.com/event/have-a-poet-for-lunch-with-sherilyn-connelly/
END:VEVENT
END:VCALENDAR