BEGIN:VCALENDAR
VERSION:2.0
PRODID:-//San Francisco Bay Times - ECPv5.1.0//NONSGML v1.0//EN
CALSCALE:GREGORIAN
METHOD:PUBLISH
X-WR-CALNAME:San Francisco Bay Times
X-ORIGINAL-URL:https://sfbaytimes.com
X-WR-CALDESC:Events for San Francisco Bay Times
BEGIN:VTIMEZONE
TZID:America/Los_Angeles
BEGIN:DAYLIGHT
TZOFFSETFROM:-0800
TZOFFSETTO:-0700
TZNAME:PDT
DTSTART:20180311T100000
END:DAYLIGHT
BEGIN:STANDARD
TZOFFSETFROM:-0700
TZOFFSETTO:-0800
TZNAME:PST
DTSTART:20181104T090000
END:STANDARD
END:VTIMEZONE
BEGIN:VEVENT
DTSTART;TZID=America/Los_Angeles:20180921T200000
DTEND;TZID=America/Los_Angeles:20180921T220000
DTSTAMP:20260420T025201
CREATED:20180923T211025Z
LAST-MODIFIED:20180923T211025Z
UID:19691-1537560000-1537567200@sfbaytimes.com
SUMMARY:Hedwig and the Angry Itch Live Performance
DESCRIPTION:@ Victoria Theatre\, 2961 16th Street. Ray of Light Theatre presents this gender- and genre-bending feast for the eyes and ears about the tale of one of the Eastern Bloc’s most unique characters. 8-10pm through October 6. http://www.victoriatheatre.org \n
URL:https://sfbaytimes.com/event/hedwig-angry-itch-live-performance/
END:VEVENT
END:VCALENDAR