BEGIN:VCALENDAR
VERSION:2.0
PRODID:-//San Francisco Bay Times - ECPv5.1.0//NONSGML v1.0//EN
CALSCALE:GREGORIAN
METHOD:PUBLISH
X-WR-CALNAME:San Francisco Bay Times
X-ORIGINAL-URL:https://sfbaytimes.com
X-WR-CALDESC:Events for San Francisco Bay Times
BEGIN:VTIMEZONE
TZID:America/Los_Angeles
BEGIN:DAYLIGHT
TZOFFSETFROM:-0800
TZOFFSETTO:-0700
TZNAME:PDT
DTSTART:20180311T100000
END:DAYLIGHT
BEGIN:STANDARD
TZOFFSETFROM:-0700
TZOFFSETTO:-0800
TZNAME:PST
DTSTART:20181104T090000
END:STANDARD
END:VTIMEZONE
BEGIN:VEVENT
DTSTART;TZID=America/Los_Angeles:20180316T180000
DTEND;TZID=America/Los_Angeles:20180316T200000
DTSTAMP:20260424T024924
CREATED:20180309T231224Z
LAST-MODIFIED:20180309T231224Z
UID:17111-1521223200-1521230400@sfbaytimes.com
SUMMARY:Hey Girl! Bingo! Finale
DESCRIPTION:@ Ginger’s\, 86 Hardie Place. Come and wish Shelix farewell and enjoy six rounds of bingo. 6–8pm. Hey Girl Bingo on Facebook \n
URL:https://sfbaytimes.com/event/hey-girl-bingo-finale/
END:VEVENT
END:VCALENDAR