BEGIN:VCALENDAR
VERSION:2.0
PRODID:-//San Francisco Bay Times - ECPv5.1.0//NONSGML v1.0//EN
CALSCALE:GREGORIAN
METHOD:PUBLISH
X-WR-CALNAME:San Francisco Bay Times
X-ORIGINAL-URL:https://sfbaytimes.com
X-WR-CALDESC:Events for San Francisco Bay Times
BEGIN:VTIMEZONE
TZID:America/Los_Angeles
BEGIN:DAYLIGHT
TZOFFSETFROM:-0800
TZOFFSETTO:-0700
TZNAME:PDT
DTSTART:20180311T100000
END:DAYLIGHT
BEGIN:STANDARD
TZOFFSETFROM:-0700
TZOFFSETTO:-0800
TZNAME:PST
DTSTART:20181104T090000
END:STANDARD
END:VTIMEZONE
BEGIN:VEVENT
DTSTART;TZID=America/Los_Angeles:20180908T170000
DTEND;TZID=America/Los_Angeles:20180908T220000
DTSTAMP:20260422T121311
CREATED:20180906T212948Z
LAST-MODIFIED:20180906T212948Z
UID:19389-1536426000-1536444000@sfbaytimes.com
SUMMARY:Hey Girl Hey & Little Gay Book Oakland Pride Party
DESCRIPTION:@ Era Art Bar and Lounge\, 19 Grand Avenue\, Oakland. DJs Osco\, Scott Free and Campbell will be spinning dance music for this popular party that will sell out. 5-10pm. http://www.heygirlproductions.com \n
URL:https://sfbaytimes.com/event/hey-girl-hey-little-gay-book-oakland-pride-party/
END:VEVENT
END:VCALENDAR