BEGIN:VCALENDAR
VERSION:2.0
PRODID:-//San Francisco Bay Times - ECPv5.1.0//NONSGML v1.0//EN
CALSCALE:GREGORIAN
METHOD:PUBLISH
X-WR-CALNAME:San Francisco Bay Times
X-ORIGINAL-URL:https://sfbaytimes.com
X-WR-CALDESC:Events for San Francisco Bay Times
BEGIN:VTIMEZONE
TZID:America/Los_Angeles
BEGIN:DAYLIGHT
TZOFFSETFROM:-0800
TZOFFSETTO:-0700
TZNAME:PDT
DTSTART:20180311T100000
END:DAYLIGHT
BEGIN:STANDARD
TZOFFSETFROM:-0700
TZOFFSETTO:-0800
TZNAME:PST
DTSTART:20181104T090000
END:STANDARD
END:VTIMEZONE
BEGIN:VEVENT
DTSTART;TZID=America/Los_Angeles:20181004T180000
DTEND;TZID=America/Los_Angeles:20181004T203000
DTSTAMP:20260419T173125
CREATED:20181006T211711Z
LAST-MODIFIED:20181006T211711Z
UID:19817-1538676000-1538685000@sfbaytimes.com
SUMMARY:Honoring Julius Turman: Reflections on Intersectional Advocacy
DESCRIPTION:@ Pillsbury Winthrop Shaw Pittman\, 4 Embarcadero Ctr. Hosted by Bay Area Lawyers for Individual Freedom and the Charles Houston Bar Association\, the event features a panel discussion with Susan Christian\, David Tsai\, Angela Padillla and David Campos with moderator Brandon Lawrence. 6-8:30pm. http://www.balif.org \n
URL:https://sfbaytimes.com/event/honoring-julius-turman/
END:VEVENT
END:VCALENDAR