BEGIN:VCALENDAR
VERSION:2.0
PRODID:-//San Francisco Bay Times - ECPv5.1.0//NONSGML v1.0//EN
CALSCALE:GREGORIAN
METHOD:PUBLISH
X-WR-CALNAME:San Francisco Bay Times
X-ORIGINAL-URL:https://sfbaytimes.com
X-WR-CALDESC:Events for San Francisco Bay Times
BEGIN:VTIMEZONE
TZID:America/Los_Angeles
BEGIN:DAYLIGHT
TZOFFSETFROM:-0800
TZOFFSETTO:-0700
TZNAME:PDT
DTSTART:20170312T100000
END:DAYLIGHT
BEGIN:STANDARD
TZOFFSETFROM:-0700
TZOFFSETTO:-0800
TZNAME:PST
DTSTART:20171105T090000
END:STANDARD
END:VTIMEZONE
BEGIN:VEVENT
DTSTART;TZID=America/Los_Angeles:20170720T183000
DTEND;TZID=America/Los_Angeles:20170720T183000
DTSTAMP:20260422T032458
CREATED:20170714T180012Z
LAST-MODIFIED:20170714T180012Z
UID:13114-1500575400-1500575400@sfbaytimes.com
SUMMARY:Horizons Foundation 2017 Gala Launch Party
DESCRIPTION:@ Dobly Laboratories\, 1275 Market Street. The Summer of Love-themed party will include food\, wines and entertainment\nand a discussion of plans for the nation’s first LGBT community foundation’s annual gala to be held on Saturday\, October 7th. 6:30pm. horizonsfoundation.org \n
URL:https://sfbaytimes.com/event/horizons-foundation-2017-gala-launch-party/
END:VEVENT
END:VCALENDAR