BEGIN:VCALENDAR
VERSION:2.0
PRODID:-//San Francisco Bay Times - ECPv5.1.0//NONSGML v1.0//EN
CALSCALE:GREGORIAN
METHOD:PUBLISH
X-WR-CALNAME:San Francisco Bay Times
X-ORIGINAL-URL:https://sfbaytimes.com
X-WR-CALDESC:Events for San Francisco Bay Times
BEGIN:VTIMEZONE
TZID:America/Los_Angeles
BEGIN:DAYLIGHT
TZOFFSETFROM:-0800
TZOFFSETTO:-0700
TZNAME:PDT
DTSTART:20170312T100000
END:DAYLIGHT
BEGIN:STANDARD
TZOFFSETFROM:-0700
TZOFFSETTO:-0800
TZNAME:PST
DTSTART:20171105T090000
END:STANDARD
END:VTIMEZONE
BEGIN:VEVENT
DTSTART;TZID=America/Los_Angeles:20170831T180000
DTEND;TZID=America/Los_Angeles:20170831T210000
DTSTAMP:20260422T043523
CREATED:20170828T232537Z
LAST-MODIFIED:20170828T232537Z
UID:13956-1504202400-1504213200@sfbaytimes.com
SUMMARY:HRC San Francisco Bay Area Federal Club Mixer
DESCRIPTION:@ Resolute\, 678 Geary Street. Drinks\, aps and networking plus an update on HRC’s work nationally. 6-9pm.\njbalbers@gmail.com \n
URL:https://sfbaytimes.com/event/hrc-san-francisco-bay-area-federal-club-mixer/
END:VEVENT
END:VCALENDAR