BEGIN:VCALENDAR
VERSION:2.0
PRODID:-//San Francisco Bay Times - ECPv5.1.0//NONSGML v1.0//EN
CALSCALE:GREGORIAN
METHOD:PUBLISH
X-WR-CALNAME:San Francisco Bay Times
X-ORIGINAL-URL:https://sfbaytimes.com
X-WR-CALDESC:Events for San Francisco Bay Times
BEGIN:VTIMEZONE
TZID:America/Los_Angeles
BEGIN:DAYLIGHT
TZOFFSETFROM:-0800
TZOFFSETTO:-0700
TZNAME:PDT
DTSTART:20170312T100000
END:DAYLIGHT
BEGIN:STANDARD
TZOFFSETFROM:-0700
TZOFFSETTO:-0800
TZNAME:PST
DTSTART:20171105T090000
END:STANDARD
END:VTIMEZONE
BEGIN:VEVENT
DTSTART;TZID=America/Los_Angeles:20171231T210000
DTEND;TZID=America/Los_Angeles:20171231T210000
DTSTAMP:20260426T003625
CREATED:20171220T231531Z
LAST-MODIFIED:20171220T231531Z
UID:15938-1514754000-1514754000@sfbaytimes.com
SUMMARY:Hubba Hubba Revue’s New Year’s Eve Burlesque Bash
DESCRIPTION:@ Uptown Night Club\, 1928 Telegraph Avenue\, Oakland. The Bay Area’s world famous burlesque and variety show with a night of naughty thrills featuring the madcap kings of swing\, Lee Presson & The Nails. 9pm.  \nuptownnightclub.com \n
URL:https://sfbaytimes.com/event/hubba-hubba-revues-new-years-eve-burlesque-bash/
END:VEVENT
END:VCALENDAR