BEGIN:VCALENDAR
VERSION:2.0
PRODID:-//San Francisco Bay Times - ECPv5.1.0//NONSGML v1.0//EN
CALSCALE:GREGORIAN
METHOD:PUBLISH
X-WR-CALNAME:San Francisco Bay Times
X-ORIGINAL-URL:https://sfbaytimes.com
X-WR-CALDESC:Events for San Francisco Bay Times
BEGIN:VTIMEZONE
TZID:America/Los_Angeles
BEGIN:DAYLIGHT
TZOFFSETFROM:-0800
TZOFFSETTO:-0700
TZNAME:PDT
DTSTART:20170312T100000
END:DAYLIGHT
BEGIN:STANDARD
TZOFFSETFROM:-0700
TZOFFSETTO:-0800
TZNAME:PST
DTSTART:20171105T090000
END:STANDARD
END:VTIMEZONE
BEGIN:VEVENT
DTSTART;TZID=America/Los_Angeles:20171105T160000
DTEND;TZID=America/Los_Angeles:20171105T160000
DTSTAMP:20260425T210801
CREATED:20171101T182454Z
LAST-MODIFIED:20171101T182454Z
UID:14895-1509897600-1509897600@sfbaytimes.com
SUMMARY:Imperial Proud
DESCRIPTION:@ Aunt Charlie’s Lounge\, 133 Turk Street. A benefit featuring food\, raffles and entertainers plus open show supporting the Imperial Council of San Francisco. 4pm. imperialcouncilsf.org \n
URL:https://sfbaytimes.com/event/imperial-proud/
END:VEVENT
END:VCALENDAR