BEGIN:VCALENDAR
VERSION:2.0
PRODID:-//San Francisco Bay Times - ECPv5.1.0//NONSGML v1.0//EN
CALSCALE:GREGORIAN
METHOD:PUBLISH
X-WR-CALNAME:San Francisco Bay Times
X-ORIGINAL-URL:https://sfbaytimes.com
X-WR-CALDESC:Events for San Francisco Bay Times
BEGIN:VTIMEZONE
TZID:America/Los_Angeles
BEGIN:DAYLIGHT
TZOFFSETFROM:-0800
TZOFFSETTO:-0700
TZNAME:PDT
DTSTART:20170312T100000
END:DAYLIGHT
BEGIN:STANDARD
TZOFFSETFROM:-0700
TZOFFSETTO:-0800
TZNAME:PST
DTSTART:20171105T090000
END:STANDARD
END:VTIMEZONE
BEGIN:VEVENT
DTSTART;TZID=America/Los_Angeles:20170920T180000
DTEND;TZID=America/Los_Angeles:20170920T220000
DTSTAMP:20260422T045030
CREATED:20170912T222340Z
LAST-MODIFIED:20170912T222340Z
UID:14177-1505930400-1505944800@sfbaytimes.com
SUMMARY:In Town Show
DESCRIPTION:@ Aunt Charlie’s Lounge\, 133 Turk Street.  An annual show marking the start of the SF Ducal Council’s Coronation celebrating. 6-10pm. sfducal.org \n
URL:https://sfbaytimes.com/event/in-town-show/
END:VEVENT
END:VCALENDAR