BEGIN:VCALENDAR
VERSION:2.0
PRODID:-//San Francisco Bay Times - ECPv5.1.0//NONSGML v1.0//EN
CALSCALE:GREGORIAN
METHOD:PUBLISH
X-WR-CALNAME:San Francisco Bay Times
X-ORIGINAL-URL:https://sfbaytimes.com
X-WR-CALDESC:Events for San Francisco Bay Times
BEGIN:VTIMEZONE
TZID:America/Los_Angeles
BEGIN:DAYLIGHT
TZOFFSETFROM:-0800
TZOFFSETTO:-0700
TZNAME:PDT
DTSTART:20170312T100000
END:DAYLIGHT
BEGIN:STANDARD
TZOFFSETFROM:-0700
TZOFFSETTO:-0800
TZNAME:PST
DTSTART:20171105T090000
END:STANDARD
END:VTIMEZONE
BEGIN:VEVENT
DTSTART;TZID=America/Los_Angeles:20171120T160000
DTEND;TZID=America/Los_Angeles:20171120T190000
DTSTAMP:20260422T024912
CREATED:20171114T232059Z
LAST-MODIFIED:20171114T232059Z
UID:15170-1511193600-1511204400@sfbaytimes.com
SUMMARY:Indigenous Women’s Dance
DESCRIPTION:@ Alcatraz Island. Fancy dancer Eva Lopez\, Dancing Earth and others present a program commemorating the 48th anniversary of the Alcatraz Occupation. The event is part of a multi-day All Tribes Coalition gathering Nov 20-23. 4-7pm. e.sparxo.com/188116846287904768 \n
URL:https://sfbaytimes.com/event/indigenous-womens-dance/
END:VEVENT
END:VCALENDAR