BEGIN:VCALENDAR
VERSION:2.0
PRODID:-//San Francisco Bay Times - ECPv5.1.0//NONSGML v1.0//EN
CALSCALE:GREGORIAN
METHOD:PUBLISH
X-WR-CALNAME:San Francisco Bay Times
X-ORIGINAL-URL:https://sfbaytimes.com
X-WR-CALDESC:Events for San Francisco Bay Times
BEGIN:VTIMEZONE
TZID:America/Los_Angeles
BEGIN:DAYLIGHT
TZOFFSETFROM:-0800
TZOFFSETTO:-0700
TZNAME:PDT
DTSTART:20170312T100000
END:DAYLIGHT
BEGIN:STANDARD
TZOFFSETFROM:-0700
TZOFFSETTO:-0800
TZNAME:PST
DTSTART:20171105T090000
END:STANDARD
END:VTIMEZONE
BEGIN:VEVENT
DTSTART;TZID=America/Los_Angeles:20171105T200000
DTEND;TZID=America/Los_Angeles:20171105T200000
DTSTAMP:20260425T174814
CREATED:20171101T182613Z
LAST-MODIFIED:20171101T182613Z
UID:14899-1509912000-1509912000@sfbaytimes.com
SUMMARY:Indigo Girls’ Emily Saliers
DESCRIPTION:@ Great American Music Hall\, 859 O’Farrell Streets. Emily Saliers’ first solo record\, Murmuration Nation\, is featured. 8pm. indigogirls.com \n
URL:https://sfbaytimes.com/event/indigo-girls-emily-saliers/
END:VEVENT
END:VCALENDAR