BEGIN:VCALENDAR
VERSION:2.0
PRODID:-//San Francisco Bay Times - ECPv5.1.0//NONSGML v1.0//EN
CALSCALE:GREGORIAN
METHOD:PUBLISH
X-WR-CALNAME:San Francisco Bay Times
X-ORIGINAL-URL:https://sfbaytimes.com
X-WR-CALDESC:Events for San Francisco Bay Times
BEGIN:VTIMEZONE
TZID:America/Los_Angeles
BEGIN:DAYLIGHT
TZOFFSETFROM:-0800
TZOFFSETTO:-0700
TZNAME:PDT
DTSTART:20170312T100000
END:DAYLIGHT
BEGIN:STANDARD
TZOFFSETFROM:-0700
TZOFFSETTO:-0800
TZNAME:PST
DTSTART:20171105T090000
END:STANDARD
END:VTIMEZONE
BEGIN:VEVENT
DTSTART;TZID=America/Los_Angeles:20170908T193000
DTEND;TZID=America/Los_Angeles:20170908T193000
DTSTAMP:20260421T112948
CREATED:20170908T210844Z
LAST-MODIFIED:20170908T210844Z
UID:14103-1504899000-1504899000@sfbaytimes.com
SUMMARY:Indigo Girls
DESCRIPTION:@ Mountain Winery\, 14831 Pierce Road\, Saratoga. Twenty years after they began releasing records as the Indigo Girls\, Amy Ray and Emily Saliers have sold over 14 mission records and they’re still going strong.  Amythyst Kiah opens. 7:30pm. mountainwinery.com \n
URL:https://sfbaytimes.com/event/indigo-girls/
END:VEVENT
END:VCALENDAR