BEGIN:VCALENDAR
VERSION:2.0
PRODID:-//San Francisco Bay Times - ECPv5.1.0//NONSGML v1.0//EN
CALSCALE:GREGORIAN
METHOD:PUBLISH
X-WR-CALNAME:San Francisco Bay Times
X-ORIGINAL-URL:https://sfbaytimes.com
X-WR-CALDESC:Events for San Francisco Bay Times
BEGIN:VTIMEZONE
TZID:America/Los_Angeles
BEGIN:DAYLIGHT
TZOFFSETFROM:-0800
TZOFFSETTO:-0700
TZNAME:PDT
DTSTART:20170312T100000
END:DAYLIGHT
BEGIN:STANDARD
TZOFFSETFROM:-0700
TZOFFSETTO:-0800
TZNAME:PST
DTSTART:20171105T090000
END:STANDARD
END:VTIMEZONE
BEGIN:VEVENT
DTSTART;TZID=America/Los_Angeles:20170720T190000
DTEND;TZID=America/Los_Angeles:20170720T210000
DTSTAMP:20260422T064441
CREATED:20170714T180139Z
LAST-MODIFIED:20170714T180139Z
UID:13116-1500577200-1500584400@sfbaytimes.com
SUMMARY:Inside Hollywood’s Bisexual Closet: Marilyn Monroe and More
DESCRIPTION:@ GLBT History Museum\, 4127 18th Street. A behind the scenes look at old Hollywood with author Boze Hadleigh. 7-9pm. glbthistory.org \n
URL:https://sfbaytimes.com/event/inside-hollywoods-bisexual-closet-marilyn-monroe/
END:VEVENT
END:VCALENDAR