BEGIN:VCALENDAR
VERSION:2.0
PRODID:-//San Francisco Bay Times - ECPv5.1.0//NONSGML v1.0//EN
CALSCALE:GREGORIAN
METHOD:PUBLISH
X-WR-CALNAME:San Francisco Bay Times
X-ORIGINAL-URL:https://sfbaytimes.com
X-WR-CALDESC:Events for San Francisco Bay Times
BEGIN:VTIMEZONE
TZID:America/Los_Angeles
BEGIN:DAYLIGHT
TZOFFSETFROM:-0800
TZOFFSETTO:-0700
TZNAME:PDT
DTSTART:20170312T100000
END:DAYLIGHT
BEGIN:STANDARD
TZOFFSETFROM:-0700
TZOFFSETTO:-0800
TZNAME:PST
DTSTART:20171105T090000
END:STANDARD
END:VTIMEZONE
BEGIN:VEVENT
DTSTART;TZID=America/Los_Angeles:20170720T183000
DTEND;TZID=America/Los_Angeles:20170720T203000
DTSTAMP:20260422T050812
CREATED:20170714T181511Z
LAST-MODIFIED:20170714T181511Z
UID:13120-1500575400-1500582600@sfbaytimes.com
SUMMARY:Intercollegiate LGBTQ Mixers and Events
DESCRIPTION:@ Raven Bar & Lounge\, 1151 Folsom Street. Raise a glass with fellow alumni at this event hosted by the Bay Area’s\naffiliate of the Princeton Bisexual Transgender Gay and Lesbian Alumni. 6:30-8:30pm. president@sfpennclub.com \n
URL:https://sfbaytimes.com/event/intercollegiate-lgbtq-mixers-events/
END:VEVENT
END:VCALENDAR