BEGIN:VCALENDAR
VERSION:2.0
PRODID:-//San Francisco Bay Times - ECPv5.1.0//NONSGML v1.0//EN
CALSCALE:GREGORIAN
METHOD:PUBLISH
X-WR-CALNAME:San Francisco Bay Times
X-ORIGINAL-URL:https://sfbaytimes.com
X-WR-CALDESC:Events for San Francisco Bay Times
BEGIN:VTIMEZONE
TZID:America/Los_Angeles
BEGIN:DAYLIGHT
TZOFFSETFROM:-0800
TZOFFSETTO:-0700
TZNAME:PDT
DTSTART:20170312T100000
END:DAYLIGHT
BEGIN:STANDARD
TZOFFSETFROM:-0700
TZOFFSETTO:-0800
TZNAME:PST
DTSTART:20171105T090000
END:STANDARD
END:VTIMEZONE
BEGIN:VEVENT
DTSTART;TZID=America/Los_Angeles:20170730T130000
DTEND;TZID=America/Los_Angeles:20170730T140000
DTSTAMP:20260424T050415
CREATED:20170728T194627Z
LAST-MODIFIED:20170728T194627Z
UID:13514-1501419600-1501423200@sfbaytimes.com
SUMMARY:Jason Brock Live in the Castro!
DESCRIPTION:@ Jane Warner Plaza\, 17th and Castro. Live music by award winning performer\, hosted by Castro Community Business District. 1-2pm.\ncastrocbd.org \n
URL:https://sfbaytimes.com/event/jason-brock-live-castro/
END:VEVENT
END:VCALENDAR