BEGIN:VCALENDAR
VERSION:2.0
PRODID:-//San Francisco Bay Times - ECPv5.1.0//NONSGML v1.0//EN
CALSCALE:GREGORIAN
METHOD:PUBLISH
X-WR-CALNAME:San Francisco Bay Times
X-ORIGINAL-URL:https://sfbaytimes.com
X-WR-CALDESC:Events for San Francisco Bay Times
BEGIN:VTIMEZONE
TZID:America/Los_Angeles
BEGIN:DAYLIGHT
TZOFFSETFROM:-0800
TZOFFSETTO:-0700
TZNAME:PDT
DTSTART:20170312T100000
END:DAYLIGHT
BEGIN:STANDARD
TZOFFSETFROM:-0700
TZOFFSETTO:-0800
TZNAME:PST
DTSTART:20171105T090000
END:STANDARD
END:VTIMEZONE
BEGIN:VEVENT
DTSTART;TZID=America/Los_Angeles:20170619T190000
DTEND;TZID=America/Los_Angeles:20170619T220000
DTSTAMP:20260422T214749
CREATED:20170607T221753Z
LAST-MODIFIED:20170607T221753Z
UID:12537-1497898800-1497909600@sfbaytimes.com
SUMMARY:Jezebelle’s Army Presents: LITHIUM
DESCRIPTION:@ The Stud\, 399 9th Street. Performances pay tribute to those who have survived experiences with depression. 7-10pm. studsf.com\n\n
URL:https://sfbaytimes.com/event/jezebelles-army-presents-lithium/
END:VEVENT
END:VCALENDAR