BEGIN:VCALENDAR
VERSION:2.0
PRODID:-//San Francisco Bay Times - ECPv5.1.0//NONSGML v1.0//EN
CALSCALE:GREGORIAN
METHOD:PUBLISH
X-WR-CALNAME:San Francisco Bay Times
X-ORIGINAL-URL:https://sfbaytimes.com
X-WR-CALDESC:Events for San Francisco Bay Times
BEGIN:VTIMEZONE
TZID:America/Los_Angeles
BEGIN:DAYLIGHT
TZOFFSETFROM:-0800
TZOFFSETTO:-0700
TZNAME:PDT
DTSTART:20180311T100000
END:DAYLIGHT
BEGIN:STANDARD
TZOFFSETFROM:-0700
TZOFFSETTO:-0800
TZNAME:PST
DTSTART:20181104T090000
END:STANDARD
END:VTIMEZONE
BEGIN:VEVENT
DTSTART;TZID=America/Los_Angeles:20180123T183000
DTEND;TZID=America/Los_Angeles:20180123T183000
DTSTAMP:20260425T122110
CREATED:20180116T032640Z
LAST-MODIFIED:20180116T032640Z
UID:16239-1516732200-1516732200@sfbaytimes.com
SUMMARY:Joyce Carol Oates and Jonathan Santlofer; It Occurs to Me That I Am America
DESCRIPTION:@ SF Public Library\, Koret Auditorium\, 100 Larkin Street. Oakes in conversation with editor Santlofer will discus the new anthology of original short stories from thirty bestselling  and award-winning authors. 6:30pm. sfpl.org \n
URL:https://sfbaytimes.com/event/joyce-carol-oates-jonathan-santlofer-occurs-america/
END:VEVENT
END:VCALENDAR